Workbook

Sheet 사업비 세부현황
A1: 과제번호
A2: 과제명
A3: 주관기관(대학)
A4: 연구책임자
A5: 연구자번호(책임자)
A6: 총 연구기간(6년) | B6: YYYY.MM.DD~YYYY.MM.DD
A7: 단계연구기간(3년) | B7: YYYY.MM.DD~YYYY.MM.DD
A8: 당해연구기간(21년도) | B8: 2021.09.01~2022.08.31
A10: <작성요령> 현 단계 내의 사업비 집행계획을 작성(2019년 선정 과제는 2021년도만 작성 / 2020년 선정 과제는 2021~2022년도 작성) ㅇ (국고) 연구계획서에서의 정부출연금 집행계획에 따라 작성 원칙(단, 혁신법 시행으로 인한 인건비, 학생인건비, 연구활동비 관련 편성기준 변화에 따라 당초 계획을 유지하는 범위에서 금회에 한해 관련 비목 액수 일부 조정 가능) - 사업비 증액분(60백만원/연)을 반영하되, 예산 증액 취지(전임연구인력 1명 증원 및 인건비 기준 상향) 등에 맞게 작성 요망 - 혁신법 시행에 따른 현장 애로 사항 최소화를 위해 2021년도에 한하여 해당 단계 연구비 집행 계획 변경기회 부여(금회 限) - 추후 정산 시 연구계획서 상 당초 연구내용(계획)에 의거하여 집행의 적정성을 판단하므로 별도 비목별 상세내역 작성 불요(비목별 금액 일부 조정 시 사유와 내역을 기재하되 변동사항이 없는 경우 별도 기재불요) - 상기 목적 외 수정 불가(당초 연구내용(계획) 변경, 오기입 금액 정정 등) - 제시된 비목별 총액으로만 작성(세비목 추가 불요) - 행정지원인력 인건비는 대학 간접비로 지원하는 바, 국고 및 대응으로 편성 불가 ㅇ (대응) 국가연구개발사업 연구개발비 사용 기준에 따라 국고지원금과 동일한 집행기준으로 계획 편성(국가연구개발사업 연구개발비 사용 기준 위배 시 불인정) - 인건비성 경비는 편성 불가 - 추후 정산 시 연구계획서 상 당초 연구내용(계획)에 의거하여 집행의 적정성을 판단하므로 별도 비목별 상세내역 작성 불요(비목별 금액 일부 조정 시 사유와 내역을 기재하되 변동사항이 없는 경우 별도 기재불요)
H12: (단위: 원)
A13: 구분 | B13: 비목 | D13: 2021년 ※ 작성대상: ' 19,' 20년 선정 과제 | H13: 2022년 ※ 작성대상: ' 20년 선정 과제
D14: 국고 | E14: 대응 | F14: 합계 | G14: (국고_조정 시) 사유 | H14: 국고 | I14: 대응 | J14: 합계 | K14: (국고_조정 시) 사유
A15: 직접비 | B15: 인건비(주1) | C15: 내부인건비 | F15: =D15+E15 -> 0 | J15: =H15+I15 -> 0
C16: 외부인건비(연구보조원) | F16: =D16+E16 -> 0 | J16: =H16+I16 -> 0
B17: 학생인건비(주2) | C17: 연구보조원 | F17: =D17+E17 -> 0 | J17: =H17+I17 -> 0
B18: 연구시설장비비(주3) | F18: =D18+E18 -> 0 | J18: =H18+I18 -> 0
B19: 연구재료비 | F19: =D19+E19 -> 0 | J19: =H19+I19 -> 0
B20: 연구활동비(주4) | F20: =D20+E20 -> 0 | J20: =H20+I20 -> 0
B21: 연구수당(주5) | F21: =D21+E21 -> 0 | J21: =H21+I21 -> 0
A22: 합계 | D22: =SUM(D15:D21) -> 0 | E22: =SUM(E15:E21) -> 0 | F22: =SUM(F15:F21) -> 0 | H22: =SUM(H15:H21) -> 0 | I22: =SUM(I15:I21) -> 0 | J22: =SUM(J15:J21) -> 0
A24: (주1) 인건비 : 전임연구인력(기관 4대보험료 포함) 및 주관연구기관 소속 학사급/석사급 연구원은 내부인건비로 편성 / 타교 소속 학생연구자는 외부인건비로 편성 (주2) 학생인건비 : 연구보조원 중 주관연구기관 소속의 학사, 석사, 박사과정생 및 수료생 (주3) 연구시설·장비비 : 3천만원 이상 집행에 관련된 건(집행 또는 집행계획 변경 포함)은 모두 사전승인 필요(금회 편성 시 관련 절차 안내 예정) <연구개발비 사용 기준 제73조> (주4) 연구활동비 : 연구활동비 중 외부전문기술활용비는 직접비의 40%의 범위에서 활용 <연구개발비 사용 기준 제25조> (주5) 연구수당 : 1인당 월 40만원 限
A26: ※ 현 단계 사업비 집행계획은 금번 제출하는 동 사업비 집행계획을 기준으로 적용(비목 간 전용은 관련 규정에서 정한 범위에서 가능)
A27: ※ 해당 내용을 기준으로 ernd 및 통합이지바로에 전송될 예정이므로 작성에 유의
A28: ※ 통합이지바로에서는 정부출연금과 대응자금이 합산된 총액으로 관리되며, 향후 발생하게 되는 집행잔액은 총 사업비에서의 정부출연금, 대응자금 구성비율에 따라 반납 예정
A29: ※ 세부사항은 국가연구개발혁신법 관련 부처의 유권해석 변동에 따라 변경될 수 있음

Sheet 총괄표(입력 및 수정 금지)
R1: 정부출연금+대응자금의 비목별 합계
A2: 사업명 | B2: 과제번호 | C2: 과제명 | D2: 연구책임자명 | E2: 연구책임자등록번호 | F2: 주관기관명 | G2: 사업년도 | H2: 총연구기간 | I2: 단계연구기간 | J2: 당해연도 연구기간 | K2: 참여연구원의 참여시작 일자 | L2: 참여연구원의 참여종료 일자 | M2: 학생인건비 통합 여부 | N2: 학생인건비 특례 여부 | O2: 국고 총액 | P2: 대응 총액 | Q2: 총 사업비(국고+대응) | R2: 내부인건비(현금) | S2: 외부인건비(현금) | T2: 학생인건비 | U2: 연구시설장비비(현금_일반) | V2: 연구재료비 | W2: 연구활동비(현금) | X2: 연구수당
A3: 인문사회연구소 | B3: ='사업비 세부현황'!B1 -> 0 | C3: ='사업비 세부현황'!B2 -> 0 | D3: ='사업비 세부현황'!B4 -> 0 | E3: ='사업비 세부현황'!B5 -> 0 | F3: ='사업비 세부현황'!B3 -> 0 | G3: 2021 | H3: ='사업비 세부현황'!B6 -> YYYY.MM.DD~YYYY.MM.DD | I3: ='사업비 세부현황'!B7 -> YYYY.MM.DD~YYYY.MM.DD | J3: 2021.09.01~2022.08.31 | K3: 2021.09.01 | L3: 2022.8.31 | M3: N | N3: 일반 | O3: ='사업비 세부현황'!D22 -> 0 | P3: ='사업비 세부현황'!E22 -> 0 | Q3: ='사업비 세부현황'!F22 -> 0 | R3: ='사업비 세부현황'!F15 -> 0 | S3: ='사업비 세부현황'!F16 -> 0 | T3: ='사업비 세부현황'!F17 -> 0 | U3: ='사업비 세부현황'!F18 -> 0 | V3: ='사업비 세부현황'!F19 -> 0 | W3: ='사업비 세부현황'!F20 -> 0 | X3: ='사업비 세부현황'!F21 -> 0
G4: 2022 | H4: =H3 -> YYYY.MM.DD~YYYY.MM.DD | I4: =I3 -> YYYY.MM.DD~YYYY.MM.DD | J4: 2022.09.01~2023.08.31 | K4: 2022.09.01 | L4: 2023.8.31 | M4: N | N4: 일반 | O4: ='사업비 세부현황'!H22 -> 0 | P4: ='사업비 세부현황'!I22 -> 0 | Q4: ='사업비 세부현황'!J22 -> 0 | R4: ='사업비 세부현황'!J15 -> 0 | S4: ='사업비 세부현황'!J16 -> 0 | T4: ='사업비 세부현황'!J17 -> 0 | U4: ='사업비 세부현황'!J18 -> 0 | V4: ='사업비 세부현황'!J19 -> 0 | W4: ='사업비 세부현황'!J20 -> 0 | X4: ='사업비 세부현황'!J21 -> 0
